BEGIN:VCALENDAR
VERSION:2.0
PRODID:-//Volt Europa//Events//EN
CALSCALE:GREGORIAN
METHOD:PUBLISH
BEGIN:VEVENT
UID:verkiezingsprogramma-thema-markt-1747330200@voltnederland.org
DTSTAMP:20260423T102218Z
DTSTART;TZID=Europe/Amsterdam:20250515T193000
DTEND;TZID=Europe/Amsterdam:20250515T220000
SUMMARY:Verkiezingsprogramma thema markt
DESCRIPTION:In maart zijn we gestart met de voorbereidingen voor de gemeent
 eraadsverkiezingen 2026. We hebben toen met een aantal Volt leden gesproken
  over de verkiezingsthema’s en welke belangrijker zijn dan de andere? Ond
 ertussen is het maak proces van het verkiezingsprogramma gestart en zijn de
  eerste aanmeldingen van kandidaat raadsleden binnen. De kop is er af! Op 1
 5 Mei willen we graag met Volt leden in gesprek over de inhoud van de verki
 ezingsthema’s. Dit willen we doen door een kleine markt te organ
LOCATION:Knillispoort\, Korte Waterstraat 15\, Den Bosch
URL:https://voltnederland.org/agenda/verkiezingsprogramma-thema-markt
END:VEVENT
END:VCALENDAR
