BEGIN:VCALENDAR
VERSION:2.0
PRODID:-//Volt Europa//Events//EN
CALSCALE:GREGORIAN
METHOD:PUBLISH
BEGIN:VEVENT
UID:tilburg-midden-brabant-meet-up-juni-1782324000@voltnederland.org
DTSTAMP:20260423T023307Z
DTSTART;TZID=Europe/Amsterdam:20260624T200000
DTEND;TZID=Europe/Amsterdam:20260624T220000
SUMMARY:Tilburg | Midden-Brabant Meet-up Juni
DESCRIPTION:Iedere vierde woensdag van de maand is er een bijeenkomst van V
 olt Midden-Brabant. Deze bijenkomsten zijn afwisselend politieke inhoudelij
 k\, als activiteit of als borrel ingestoken. Momenteel werken we hard aan e
 en definitief programma tot aan de zomer\, maar zet de vierde woensdag van 
 de maand vast in je agenda!
LOCATION:ntb
URL:https://voltnederland.org/brabant/agenda/tilburg-midden-brabant-meet-up
 -juni
END:VEVENT
END:VCALENDAR
