BEGIN:VCALENDAR
VERSION:2.0
PRODID:-//Volt Europa//Events//EN
CALSCALE:GREGORIAN
METHOD:PUBLISH
BEGIN:VEVENT
UID:tilburg-meetup-verkiezingsavond-1761764400@voltnederland.org
DTSTAMP:20260423T114311Z
DTSTART;TZID=Europe/Amsterdam:20251029T200000
DTEND;TZID=Europe/Amsterdam:20251029T235900
SUMMARY:Tilburg - Meetup Verkiezingsavond
DESCRIPTION:Op de dag van de Tweede Kamerverkiezingen nodigen we je van har
 te uit om samen met andere Volt-leden uit Tilburg de uitslagen te volgen. I
 n een ongedwongen sfeer kijken we in Goesting naar de exit polls en verkiez
 ingsprogramma’s\, bespreken we wat dit betekent voor Volt en staan we sti
 l bij de impact van deze avond – landelijk én lokaal. Of je actief campa
 gne hebt gevoerd of gewoon nieuwsgierig bent naar de uitkomst: dit is hét 
 moment om samen te komen\, ervaringen uit te wisselen en vooruit te bl
LOCATION:Goesting\, Heuvelstraat 139a\, 5038 AD Tilburg
URL:https://voltnederland.org/brabant/agenda/tilburg-meetup-verkiezingsavon
 d
END:VEVENT
END:VCALENDAR
