BEGIN:VCALENDAR
VERSION:2.0
PRODID:-//Volt Europa//Events//EN
CALSCALE:GREGORIAN
METHOD:PUBLISH
BEGIN:VEVENT
UID:tilburg-meet-up-juni-1717608600@voltnederland.org
DTSTAMP:20260423T102053Z
DTSTART;TZID=Europe/Amsterdam:20240605T193000
DTEND;TZID=Europe/Amsterdam:20240605T220000
SUMMARY:Tilburg Meet-up | Campagne-afsluiting Brabant
DESCRIPTION:De avond staat in het teken van een informele borrel in de Gour
 met Market in Tilburg (vlak achter het station). Wie dat leuk vindt\, kan v
 ooraf nog aansluiten bij een laatste flyeractie om het station heen. Flyere
 n in spitstijd\, van 17:00 uur tot 19:00 uur\, aansluitend een borrel. Natu
 urlijk kun je ook vanuit je eigen stad na het flyeren of gewoon voor de gez
 elligheid aansluiten. We zien je graag verschijnen!
LOCATION:Gourmet Market\, Burgemeester Stekelenburgplein 208\, 5041 SC Tilb
 urg
URL:https://voltnederland.org/brabant/agenda/tilburg-meet-up-juni
END:VEVENT
END:VCALENDAR
