BEGIN:VCALENDAR
VERSION:2.0
PRODID:-//Volt Europa//Events//EN
CALSCALE:GREGORIAN
METHOD:PUBLISH
BEGIN:VEVENT
UID:tilburg-meet-up-de-europese-verkiezingen-1714584600@voltnederland.org
DTSTAMP:20260423T114442Z
DTSTART;TZID=Europe/Amsterdam:20240501T193000
DTEND;TZID=Europe/Amsterdam:20240501T213000
SUMMARY:Tilburg meet-up: De Europese verkiezingen
DESCRIPTION:De avond staat in het teken van het ontmoeten van Volters in  M
 idden-Brabant. Daarbij wisselen we ideeën uit onder het genot van een dran
 kje.
LOCATION:Burgemeester Jansen-  Piushaven 22\, 5017 AN Tilburg
URL:https://voltnederland.org/brabant/agenda/tilburg-meet-up-de-europese-ve
 rkiezingen
END:VEVENT
END:VCALENDAR
