BEGIN:VCALENDAR
VERSION:2.0
PRODID:-//Volt Europa//Events//EN
CALSCALE:GREGORIAN
METHOD:PUBLISH
BEGIN:VEVENT
UID:tilburg-meet-up-bezoek-aan-de-raad-1748275200@voltnederland.org
DTSTAMP:20260423T131408Z
DTSTART;TZID=Europe/Amsterdam:20250526T180000
DTEND;TZID=Europe/Amsterdam:20250526T213000
SUMMARY:bezoek aan de gemeenteraad
DESCRIPTION:Deze meet-up staat geheel in het teken van een bezoek aan de ge
 meenteraad. Voor deze avond staat het volgende op het programma: 18:00 Buff
 et in het stadhuis 18:30 Rondleiding vanuit de griffie 19:30 Bijwonen raads
 vergadering 21:30 Afsluiting Als je wilt deelnemen aan deze avond\, kun je 
 je aanmelden via: sam.vanderpol@volteuropa.org
LOCATION:Stadhuis Tilburg
URL:https://voltnederland.org/brabant/agenda/tilburg-meet-up-bezoek-aan-de-
 raad
END:VEVENT
END:VCALENDAR
