BEGIN:VCALENDAR
VERSION:2.0
PRODID:-//Volt Europa//Events//EN
CALSCALE:GREGORIAN
METHOD:PUBLISH
BEGIN:VEVENT
UID:thema-avond-veluwe-noord-inspiratie-uit-ga-tirana-en-defensie-173774160
 0@voltnederland.org
DTSTAMP:20260423T114714Z
DTSTART;TZID=Europe/Amsterdam:20250124T190000
DTEND;TZID=Europe/Amsterdam:20250124T220000
SUMMARY:Thema-avond Veluwe Noord: Inspiratie uit GA Tirana en defensie
DESCRIPTION:Elke vierde vrijdagavond van de maand komen we bij elkaar.  Dez
 e keer een thema-avond met een presentatie over de GA van Volt Europa door 
 twee leden die daar geweest zijn. Wat kunnen we daar voor inspiratie uithal
 en als community?  Na de pauze is 'Ruimte voor defensie' het onderwerp\, me
 t een update vanuit de Volt-fractie van de Provinciale Staten.  Over beide 
 onderwerpen en andere Volt-zaken gaan we graag met leden en niet-leden in g
 esprek\, dus van harte uitgenodigd in Heerde!
LOCATION:Dorpshuis De Heerd\, Griftstraat 8\, Heerde
URL:https://voltnederland.org/agenda/thema-avond-veluwe-noord-inspiratie-ui
 t-ga-tirana-en-defensie
END:VEVENT
END:VCALENDAR
