BEGIN:VCALENDAR
VERSION:2.0
PRODID:-//Volt Europa//Events//EN
CALSCALE:GREGORIAN
METHOD:PUBLISH
BEGIN:VEVENT
UID:straatactie-venray-251012-1760263200@voltnederland.org
DTSTAMP:20260423T102102Z
DTSTART;TZID=Europe/Amsterdam:20251012T120000
DTEND;TZID=Europe/Amsterdam:20251012T150000
SUMMARY:Straatactie Venray
DESCRIPTION:Op deze dag zal onze nummer 6 op de lijst  Laura Harks  mee kom
 en flyeren in Venray! We willen we zo veel mogelijk mensen bij elkaar krijg
 en\, dus trek je paarste outfit aan en doe mee! We verzamelen om 12 uur op 
 het station en trekken vanaf daar de stad in. Gebruik het formulier om je a
 an te melden voor deze en andere straatacties 🙏🏻💜 On this day\, ou
 r number 6 on the list\,  Laura Harks \, will be joining us in handing out 
 flyers in Venray! We want to gather as many people as possible\, so put on 
 y
LOCATION:Venray
URL:https://voltnederland.org/limburg/agenda/straatactie-venray-251012
END:VEVENT
END:VCALENDAR
