BEGIN:VCALENDAR
VERSION:2.0
PRODID:-//Volt Europa//Events//EN
CALSCALE:GREGORIAN
METHOD:PUBLISH
BEGIN:VEVENT
UID:pubquiz-breda-1778349600@voltnederland.org
DTSTAMP:20260423T023135Z
DTSTART;TZID=Europe/Amsterdam:20260509T200000
DTEND;TZID=Europe/Amsterdam:20260509T220000
SUMMARY:Pubquiz Breda
DESCRIPTION:Na het landelijke congres organiseert de West-Brabant-community
  een pubquiz in Café Parkzicht\, met inloop tussen 19.30 en 20.00 uur. Leu
 k als we de avond daar met z’n allen kunnen afsluiten!
LOCATION:Cafe Parkzicht te Breda
URL:https://voltnederland.org/brabant/agenda/pubquiz-breda
END:VEVENT
END:VCALENDAR
