BEGIN:VCALENDAR
VERSION:2.0
PRODID:-//Volt Europa//Events//EN
CALSCALE:GREGORIAN
METHOD:PUBLISH
BEGIN:VEVENT
UID:prioriteiten-en-input-voor-het-verkiezingsprogramma-tilburg-2026-173705
 2200@voltnederland.org
DTSTAMP:20260423T120630Z
DTSTART;TZID=Europe/Amsterdam:20250116T193000
DTEND;TZID=Europe/Amsterdam:20250116T220000
SUMMARY:Prioriteiten en input voor het verkiezingsprogramma Tilburg 2026
DESCRIPTION:Prioriteiten en input voor het verkiezingsprogramma Deze maand 
 vindt de bijeenkomst op een andere dag plaats dan gebruikelijk! Op donderda
 g 16 januari nodigen we jullie uit om input en prioriteiten voor het verkie
 zingsprogramma aan te dragen. Wat zijn belangrijke thema’s voor Tilburg? 
 Wat mag zeker niet vergeten worden? Ben je nog niet actief binnen Midden-Br
 abant en twijfel je nog? Kom gerust langs om te ontdekken wat je kunt betek
 enen! De inloop is om 19:30 en we sluiten rond 22:00 af. Tot dan
LOCATION:MFA het Spoor: Schaepmanstraat 36\, 5041 AR Tilburg
URL:https://voltnederland.org/brabant/agenda/prioriteiten-en-input-voor-het
 -verkiezingsprogramma-tilburg-2026
END:VEVENT
END:VCALENDAR
