BEGIN:VCALENDAR
VERSION:2.0
PRODID:-//Volt Europa//Events//EN
CALSCALE:GREGORIAN
METHOD:PUBLISH
BEGIN:VEVENT
UID:openfractiedag-den-bosch-1743841800@voltnederland.org
DTSTAMP:20260423T101946Z
DTSTART;TZID=Europe/Amsterdam:20250405T103000
DTEND;TZID=Europe/Amsterdam:20250405T160000
SUMMARY:Openfractiedag Den Bosch
DESCRIPTION:Heb jij een politieke ambitie? Of wil je graag onderzoeken of d
 e lokale politiek iets voor jou is? Schrijf je dan nu in voor de open fract
 iedag van Volt Den Bosch via  dit aanmeldformulier. Waarom een open fractie
 dag? De open dag is bedoeld om enthousiaste en nieuwsgierige Volt-leden mee
  te nemen in de lokale politiek en hen te ondersteunen in hun professionele
  ontwikkeling\, in aanloop naar de gemeenteraadsverkiezingen van 2026. Hier
 bij deelt de fractie van Volt Den Bosch haar kennis en ervaring
LOCATION:Stadshuis Den Bosch
URL:https://voltnederland.org/agenda/openfractiedag-den-bosch
END:VEVENT
END:VCALENDAR
