BEGIN:VCALENDAR
VERSION:2.0
PRODID:-//Volt Europa//Events//EN
CALSCALE:GREGORIAN
METHOD:PUBLISH
BEGIN:VEVENT
UID:ontmoet-de-tilburgse-kandidaten-1763578800@voltnederland.org
DTSTAMP:20260424T030725Z
DTSTART;TZID=Europe/Amsterdam:20251119T200000
DTEND;TZID=Europe/Amsterdam:20251119T230000
SUMMARY:Ontmoet de Tilburgse kandidaten
DESCRIPTION:Binnenkort krijgen alle Volt-leden de advieslijsten te zien voo
 r de gemeenteraadsverkiezingen van 18 maart 2026. De Tilburgse kandidaten s
 taan te trappelen om zich voor te stellen en in gesprek te gaan met alle Ti
 lburgse Volters. Daarom staat deze meet-up helemaal in het teken van de kan
 didatenlijst en ontmoeten. De kandidaten stellen zich kort voor en daarna i
 s er ruim de tijd om met elkaar in gesprek te gaan.  De kandidaten zijn te 
 vinden  in het kandidatenboekje  van Brabant.
LOCATION:Goesting\,  Heuvelstraat 139a\, 5038 AD Tilburg
URL:https://voltnederland.org/brabant/agenda/ontmoet-de-tilburgse-kandidate
 n
END:VEVENT
END:VCALENDAR
