BEGIN:VCALENDAR
VERSION:2.0
PRODID:-//Volt Europa//Events//EN
CALSCALE:GREGORIAN
METHOD:PUBLISH
BEGIN:VEVENT
UID:online-kennisbijeenkomst-duurzaamheid-1770058800@voltnederland.org
DTSTAMP:20260423T211238Z
DTSTART;TZID=Europe/Amsterdam:20260202T200000
DTEND;TZID=Europe/Amsterdam:20260202T210000
SUMMARY:Online kennisbijeenkomst duurzaamheid
DESCRIPTION:Maandag 2 februari | 20:00 – 21:00 Thema: Duurzaamheid Met Br
 eda Circulair Deze bijeenkomst is online. Stuur suzanne.herfst@volteuropa.o
 rg een bericht voor de link.
LOCATION:Online
URL:https://voltnederland.org/agenda/online-kennisbijeenkomst-duurzaamheid
END:VEVENT
END:VCALENDAR
