BEGIN:VCALENDAR
VERSION:2.0
PRODID:-//Volt Europa//Events//EN
CALSCALE:GREGORIAN
METHOD:PUBLISH
BEGIN:VEVENT
UID:nieuwjaarsborrel-breda-1768242600@voltnederland.org
DTSTAMP:20260423T061207Z
DTSTART;TZID=Europe/Amsterdam:20260112T193000
DTEND;TZID=Europe/Amsterdam:20260112T213000
SUMMARY:Nieuwjaarsborrel Breda
DESCRIPTION:Op maandag 12 januari vindt de nieuwjaarsborrel van Breda plaat
 s in Parkzicht. Zorg dat je erbij bent!
LOCATION:Parkzicht Breda\, Paul Windhausenweg 1\, Breda
URL:https://voltnederland.org/agenda/nieuwjaarsborrel-breda
END:VEVENT
END:VCALENDAR
