BEGIN:VCALENDAR
VERSION:2.0
PRODID:-//Volt Europa//Events//EN
CALSCALE:GREGORIAN
METHOD:PUBLISH
BEGIN:VEVENT
UID:nieuwe-politiek-1744824600@voltnederland.org
DTSTAMP:20260423T142741Z
DTSTART;TZID=Europe/Amsterdam:20250416T193000
DTEND;TZID=Europe/Amsterdam:20250416T220000
SUMMARY:Nieuwe politiek
DESCRIPTION:In aanloop naar de gemeenteraadsverkiezingen van 2026 willen we
  samen met jou stilstaan bij een fundamentele vraag: Wat betekent het om ec
 ht nieuwe politiek te bedrijven? Iedere partij roept straks dat het beter\,
  transparanter en eerlijker moet. Maar ondertussen blijven we vaak hangen i
 n de korte termijn\, in profilering\, en in de bekende spelletjes. Volt is 
 niet opgericht om daarin mee te draaien. Wij zijn er om het systeem te kant
 elen\, en dat vraagt moed. Daarom nodigen we je van harte uit voor
LOCATION:Knillispoort\, Korte Waterstraat 15\, Den Bosch
URL:https://voltnederland.org/brabant/agenda/nieuwe-politiek
END:VEVENT
END:VCALENDAR
