BEGIN:VCALENDAR
VERSION:2.0
PRODID:-//Volt Europa//Events//EN
CALSCALE:GREGORIAN
METHOD:PUBLISH
BEGIN:VEVENT
UID:mens-en-hulp-nooit-strafbaar-protest-1752404400@voltnederland.org
DTSTAMP:20260423T113925Z
DTSTART;TZID=Europe/Amsterdam:20250713T130000
DTEND;TZID=Europe/Amsterdam:20250713T150000
SUMMARY:Mens en hulp nooit strafbaar protest
DESCRIPTION:13 Juli is het protest "Mens en hulp nooit strafbaar" in Rotter
 dam. Sluit je aan.
LOCATION:Schouwburgplein Rotterdam
URL:https://voltnederland.org/agenda/mens-en-hulp-nooit-strafbaar-protest
END:VEVENT
END:VCALENDAR
