BEGIN:VCALENDAR
VERSION:2.0
PRODID:-//Volt Europa//Events//EN
CALSCALE:GREGORIAN
METHOD:PUBLISH
BEGIN:VEVENT
UID:meet-up-tilburg-campagne-en-verkiezingsupdate-1772652600@voltnederland.
 org
DTSTAMP:20260423T144425Z
DTSTART;TZID=Europe/Amsterdam:20260304T203000
DTEND;TZID=Europe/Amsterdam:20260304T230000
SUMMARY:Meet-up Tilburg: campagne en verkiezingsupdate
DESCRIPTION:Het campagneteam Volt Tilburg nodigt je van harte uit om samen 
 de stand van zaken rondom de campagne en de gemeenteraadsverkiezingen van 1
 8 maart door te nemen. Maar wees niet bevreesd.... de avond staat vooral in
  het teken van ontmoeten en bijpraten.  En een extraatje: in de loop van de
  avond keren onze kandidaten ook terug van verschillende debatten en delen 
 ze hun ervaringen daarover ook. Mis het dus niet!
LOCATION:Goesting\,  Heuvelstraat 139a\, 5038 AD Tilburg
URL:https://voltnederland.org/brabant/agenda/meet-up-tilburg-campagne-en-ve
 rkiezingsupdate
END:VEVENT
END:VCALENDAR
