BEGIN:VCALENDAR
VERSION:2.0
PRODID:-//Volt Europa//Events//EN
CALSCALE:GREGORIAN
METHOD:PUBLISH
BEGIN:VEVENT
UID:meet-up-tilburg-1-jaar-tot-de-gemeenteraadsverkiezingen-1742409000@volt
 nederland.org
DTSTAMP:20260423T114924Z
DTSTART;TZID=Europe/Amsterdam:20250319T193000
DTEND;TZID=Europe/Amsterdam:20250319T220000
SUMMARY:Meet-up Tilburg: 1 jaar tot de gemeenteraadsverkiezingen
DESCRIPTION:Deze avond staat in het teken van de gemeenteraadsverkiezingen\
 , die minder dan een jaar plaatsvinden. Het definitieve programma volgt nog
 . Ben je een nieuw lid en wil je eerst kennis maken met andere leden? Om ha
 lf acht is de inloop\, kom dan eerst kennis maken.
LOCATION:MFA het Spoor- Schaepmanstraat 36\, 5041 AR Tilburg
URL:https://voltnederland.org/brabant/agenda/meet-up-tilburg-1-jaar-tot-de-
 gemeenteraadsverkiezingen
END:VEVENT
END:VCALENDAR
