BEGIN:VCALENDAR
VERSION:2.0
PRODID:-//Volt Europa//Events//EN
CALSCALE:GREGORIAN
METHOD:PUBLISH
BEGIN:VEVENT
UID:meet-up-op-weg-naar-2026-1730916000@voltnederland.org
DTSTAMP:20260423T114049Z
DTSTART;TZID=Europe/Amsterdam:20241106T190000
DTEND;TZID=Europe/Amsterdam:20241106T213000
SUMMARY:Meet-up: Op weg naar 2026
DESCRIPTION:Op weg naar de gemeenteraadsverkiezingen van 2026! Vanavond gev
 en we het startsein voor onze weg naar de gemeenteraadsverkiezingen. Arjen 
 van Silfhout (fractie Volt Den Bosch )  komt deze avond vertellen over het 
 werk in de  gemeenteraad. Dit is meteen een goed moment om vragen te stelle
 n over het raadswerk. Daarnaast willen we deze avond ook de eerste input op
 halen voor ons verkiezingsprogramma. De toegang is gratis\, zowel voor lede
 n als niet-leden. aanmelden:  https://forms.gle/W81dgn4TLqnwL1z
LOCATION:Schaepmanstraat 36\, 5041 AR Tilburg
URL:https://voltnederland.org/brabant/agenda/meet-up-op-weg-naar-2026
END:VEVENT
END:VCALENDAR
