BEGIN:VCALENDAR
VERSION:2.0
PRODID:-//Volt Europa//Events//EN
CALSCALE:GREGORIAN
METHOD:PUBLISH
BEGIN:VEVENT
UID:levenseinde-regie-het-gaat-ons-allemaal-aan-1737570600@voltnederland.or
 g
DTSTAMP:20260423T114411Z
DTSTART;TZID=Europe/Amsterdam:20250122T193000
DTEND;TZID=Europe/Amsterdam:20250122T220000
SUMMARY:Levenseinde regie - het gaat ons allemaal aan
DESCRIPTION:Beste Volt(st)ers\, De Euthanasiewet laat mensen in de kou staa
 n. Zo\, dat is een goed begin voor een mooie thema avond. Je krijgt een toe
 lichting op de huidige euthanasiewet\; een nieuw Wetsvoorstel Levenseindere
 gie met haar Burgerinitiatief\; en de overeenkomsten en verschillen tussen 
 enerzijds de Nederlandse en Europese Volt-standpunten over Euthanasie en an
 derzijds het nieuwe wetsvoorstel.  Het doel van de avond is – door middel
  van stellingen- na te gaan wat de aanwezige leden er van vinden om 
LOCATION:Wijkwerkplaats- Oost\, Van Broeckhovenlaan 4A te Den Bosch
URL:https://voltnederland.org/brabant/agenda/levenseinde-regie-het-gaat-ons
 -allemaal-aan
END:VEVENT
END:VCALENDAR
