BEGIN:VCALENDAR
VERSION:2.0
PRODID:-//Volt Europa//Events//EN
CALSCALE:GREGORIAN
METHOD:PUBLISH
BEGIN:VEVENT
UID:landelijke-2e-kamer-verkiezingen-1758130200@voltnederland.org
DTSTAMP:20260423T114248Z
DTSTART;TZID=Europe/Amsterdam:20250917T193000
DTEND;TZID=Europe/Amsterdam:20250917T220000
SUMMARY:Landelijke 2e kamer verkiezingen
DESCRIPTION:Weet jij waar we als Volt voor staan tijdens de komende 2e Kame
 rverkiezingen? Wil je weten waarom we bepaalde standpunten innemen? Wil je 
 een paar kandidaten leren kennen die op onze lijst staan? En waar deze kand
 idaten voor staan? Heb je deze kandidaten wat te vertellen? Of wil je gewoo
 n luisteren naar wat anderen zeggen over het verkiezingsprogramma? Voor die
 gene die geïnteresseerd zijn om te helpen bij de komende verkiezingscampag
 ne is dit een waardevolle kans om een goed beeld te krijgen van
LOCATION:Knillispoort - Korte waterstraat 15 Den Bosch
URL:https://voltnederland.org/agenda/landelijke-2e-kamer-verkiezingen
END:VEVENT
END:VCALENDAR
