BEGIN:VCALENDAR
VERSION:2.0
PRODID:-//Volt Europa//Events//EN
CALSCALE:GREGORIAN
METHOD:PUBLISH
BEGIN:VEVENT
UID:helmond-meet-up-juli-1722448800@voltnederland.org
DTSTAMP:20260423T144124Z
DTSTART;TZID=Europe/Amsterdam:20240731T200000
DTEND;TZID=Europe/Amsterdam:20240731T213000
SUMMARY:Helmond - Meet-up juli
DESCRIPTION:De maandelijkse borrel van Volt Helmond. Ontmoet mede-Volters\,
  ga in gesprek over actualiteiten en klets gezellig met elkaar! We nodigen 
 nieuwe leden en geïnteresseerden ook van harte uit om naar de borrel te ko
 men! Vragen rondom toegankelijkheid kunnen gesteld worden via luc.verhoeven
 @volteuropa.org
LOCATION:Stadsbrouwerij de Deftige Aap\, Markt 14\, 5701 RK Helmond
URL:https://voltnederland.org/agenda/helmond-meet-up-juli
END:VEVENT
END:VCALENDAR
