BEGIN:VCALENDAR
VERSION:2.0
PRODID:-//Volt Europa//Events//EN
CALSCALE:GREGORIAN
METHOD:PUBLISH
BEGIN:VEVENT
UID:gemeenteraad-verkiezingen-thema-avond-duurzaamheid-1750354200@voltneder
 land.org
DTSTAMP:20260423T114339Z
DTSTART;TZID=Europe/Amsterdam:20250619T193000
DTEND;TZID=Europe/Amsterdam:20250619T220000
SUMMARY:Gemeenteraad verkiezingen:  Thema-avond Duurzaamheid
DESCRIPTION:Denk & beslis mee met Volt Den Bosch! Hoe zorgen we dat Den Bos
 ch duurzamer wordt zonder dat mensen worden buitengesloten? Moet de Bossche
  polder groener worden\, ook als dat woningbouw vertraagt? En willen we hie
 r windmolens? Is een datacenter hier een slimme investering of een energie 
 slurper? En wat als de energietransitie alleen lukt als mensen met lage ink
 omens achterblijven? Tijdens deze interactieve thema-avond over duurzaamhei
 d gaan we hierover in gesprek met Bossche Volters. We spelen he
LOCATION:Knillispoort\, Korte Waterstraat 15\, Den Bosch
URL:https://voltnederland.org/agenda/gemeenteraad-verkiezingen-thema-avond-
 duurzaamheid
END:VEVENT
END:VCALENDAR
