BEGIN:VCALENDAR
VERSION:2.0
PRODID:-//Volt Europa//Events//EN
CALSCALE:GREGORIAN
METHOD:PUBLISH
BEGIN:VEVENT
UID:europees-denken-lokaal-doen-1751475600@voltnederland.org
DTSTAMP:20260423T211237Z
DTSTART;TZID=Europe/Amsterdam:20250702T190000
DTEND;TZID=Europe/Amsterdam:20250702T220000
SUMMARY:Informatieavond Gemeenteraadsverkiezingen Tilburg
DESCRIPTION:Europees denken\, lokaal doen! Deze avond is bedoeld voor ieder
 een die twijfelt om zich kandidaat te stellen of meer informatie wil over e
 en kandidaatstelling. Het programma van deze avond is als volgt: 19:30 Poli
 tiek actief als vrouw. Inge Vossen-van Beers (Statenlid) vertelt hierover. 
 20:10  Inloop  voor iedereen die graag meer informatie wil.
LOCATION:Online. Aanmelden via: richard.guijt@volteuropa.org
URL:https://voltnederland.org/brabant/agenda/europees-denken-lokaal-doen
END:VEVENT
END:VCALENDAR
