BEGIN:VCALENDAR
VERSION:2.0
PRODID:-//Volt Europa//Events//EN
CALSCALE:GREGORIAN
METHOD:PUBLISH
BEGIN:VEVENT
UID:eindhoven-zomer-meet-up-in-het-park-summer-meet-up-1752082200@voltneder
 land.org
DTSTAMP:20260423T114441Z
DTSTART;TZID=Europe/Amsterdam:20250709T193000
DTEND;TZID=Europe/Amsterdam:20250709T213000
SUMMARY:Eindhoven - Zomer meet-up in het park - Summer meet-up
DESCRIPTION:Iedere tweede woensdag van de maand organiseert Volt Zuidoost-B
 rabant een meet-up voor leden en geïnteresseerden.  Inloop vanaf 19.30 uur
 .  Start programma om 20 uur.  De meet-up van 9 juli 2025 is puur voor de g
 ezelligheid. Er is geen vaststaand programma\, neem een jeu-de-boules set m
 ee\, een klapstoeltje\, wat drinken en praat bij met andere Volt leden.  Bi
 j slecht weer wijken we uit naar een locatie binnen.  Houd onze social medi
 a of app-groep dan in de gaten. ----- Every second Wednesday of th
LOCATION:Eindhoven\, Stadswandelpark\, bij het Radiomonument\, 5615EB  Eind
 hoven
URL:https://voltnederland.org/agenda/eindhoven-zomer-meet-up-in-het-park-su
 mmer-meet-up
END:VEVENT
END:VCALENDAR
