BEGIN:VCALENDAR
VERSION:2.0
PRODID:-//Volt Europa//Events//EN
CALSCALE:GREGORIAN
METHOD:PUBLISH
BEGIN:VEVENT
UID:eindhoven-tk25-campagnespecial-meet-up-1759944600@voltnederland.org
DTSTAMP:20260423T114048Z
DTSTART;TZID=Europe/Amsterdam:20251008T193000
DTEND;TZID=Europe/Amsterdam:20251008T213000
SUMMARY:Eindhoven - TK25 campagnespecial - Meet-up
DESCRIPTION:Tijdens de Volt Eindhoven meet-up van 8 oktober staat op het pr
 ogramma: - Update campagne activiteiten Zuidoost-Brabant - Bericht uit de g
 emeenteraad Eindhoven - Nieuws uit Europa - Presentatie Volt TK25 kandidaat
  Jolijn van der Linden - Meet & Greet diverse Volt TK25 kandidaten Leden\, 
 introducees en belangstellenden zijn van harte welkom! ------ The Volt Eind
 hoven meet-up on October 8th includes: - Update on campaign activities in S
 outheast Brabant - Message from the Eindhoven City Council - Ne
LOCATION:Eindhoven\, Theaterzaal 't Rozenknopje\, Hoogstraat 59\, 5615PA  E
 indhoven
URL:https://voltnederland.org/brabant/agenda/eindhoven-tk25-campagnespecial
 -meet-up
END:VEVENT
END:VCALENDAR
