BEGIN:VCALENDAR
VERSION:2.0
PRODID:-//Volt Europa//Events//EN
CALSCALE:GREGORIAN
METHOD:PUBLISH
BEGIN:VEVENT
UID:eindhoven-sophie-in-t-veld-europese-rechtstaat-rule-of-law-1778693400@v
 oltnederland.org
DTSTAMP:20260423T023552Z
DTSTART;TZID=Europe/Amsterdam:20260513T193000
DTEND;TZID=Europe/Amsterdam:20260513T213000
SUMMARY:Eindhoven: Sophie in 't Veld - Europese rechtstaat - Rule of law
DESCRIPTION:Sophie in 't Veld was van 20 juli 2004 tot en met 15 juli 2024 
 lid van het Europees Parlement. Sinds 16 juni 2023 is ze aangesloten bij de
  politieke partij Volt\, maar fungeerde in het Europees Parlement als onafh
 ankelijk. Sinds 2024 is ze vooral actief voor Volt België. Op Substack sch
 rijft ze over Europese politiek\, de rechtstaat en alles wat haar interesse
 ert. Natuurlijk is er ook nieuws uit de Volt fractie Eindhoven en de rest v
 an Europa. Iedereen is van harte welkom\; zowel Volt leden\, als ni
LOCATION:Eindhoven: Theaterzaal 't Rozenknopje\, Hoogstraat 59\, 5615PA Ein
 dhoven
URL:https://voltnederland.org/agenda/eindhoven-sophie-in-t-veld-europese-re
 chtstaat-rule-of-law
END:VEVENT
END:VCALENDAR
