BEGIN:VCALENDAR
VERSION:2.0
PRODID:-//Volt Europa//Events//EN
CALSCALE:GREGORIAN
METHOD:PUBLISH
BEGIN:VEVENT
UID:eindhoven-pubquiz-bij-t-rozenknopje-1770402600@voltnederland.org
DTSTAMP:20260423T211344Z
DTSTART;TZID=Europe/Amsterdam:20260206T193000
DTEND;TZID=Europe/Amsterdam:20260206T220000
SUMMARY:Eindhoven: Pubquiz bij 't Rozenknopje
DESCRIPTION:Kom op vrijdag 6 februari naar theaterzaal 't Rozenknopje voor 
 een heuse pubquiz met leuke prijzen. Deze quiz is gemaakt door Volt-lid Han
 s Staaijen. De opbrengst komt ten goede aan de campagnekas voor de gemeente
 raadsverkiezingen. Voor €5 pp doe je al mee. Neem vrienden en familie mee
 \, stel een team van maximaal 5 personen samen en test je kennis. ------- C
 ome to the 't Rozenknopje theater on Friday\, February 6th\, for a real pub
  quiz with great prizes. This quiz was created by Volt member Hans 
LOCATION:Eindhoven\, Theaterzaal 't Rozenknopje\, Hoogstraat 59\, 5615PA  E
 indhoven
URL:https://voltnederland.org/agenda/eindhoven-pubquiz-bij-t-rozenknopje
END:VEVENT
END:VCALENDAR
