BEGIN:VCALENDAR
VERSION:2.0
PRODID:-//Volt Europa//Events//EN
CALSCALE:GREGORIAN
METHOD:PUBLISH
BEGIN:VEVENT
UID:eindhoven-pride-politics-1718991000@voltnederland.org
DTSTAMP:20260423T144110Z
DTSTART;TZID=Europe/Amsterdam:20240621T193000
DTEND;TZID=Europe/Amsterdam:20240621T220000
SUMMARY:Eindhoven - Pride & Politics
DESCRIPTION:Laat je horen en geef je mening tijdens het event Pride&Politic
 s: Hoe hangt de vlag erbij?🌈 Volt\, D66\, GroenLinks en COC Eindhoven or
 ganiseren samen dit te gekke pride event. We gaan het gesprek aan met wetho
 uder Samir Toub (met o.a. diversiteit en verbinding in zijn portefeuille)en
  vooral ook met elkaar! In 2022 tekenden elf politieke partijen het Eindhov
 ense Regenboog Stembusakkoord van COC. Daarmee deden ze beloften op het geb
 ied van LHBTI-emancipatie. Wat hebben we in de tussentijd bereikt? 
LOCATION:The Social Hub - Stationsweg 1
URL:https://voltnederland.org/agenda/eindhoven-pride-politics
END:VEVENT
END:VCALENDAR
