BEGIN:VCALENDAR
VERSION:2.0
PRODID:-//Volt Europa//Events//EN
CALSCALE:GREGORIAN
METHOD:PUBLISH
BEGIN:VEVENT
UID:eindhoven-pride-film-avond-pride-movie-night-1750179600@voltnederland.o
 rg
DTSTAMP:20260423T114409Z
DTSTART;TZID=Europe/Amsterdam:20250617T190000
DTEND;TZID=Europe/Amsterdam:20250617T220000
SUMMARY:Eindhoven - Pride film avond - Pride movie night
DESCRIPTION:Op 17 juni organiseert Volt Eindhoven samen met 5 andere politi
 eke partijen een filmavond. De Britse film “All of us Strangers” draait
  om de eenzame homoseksuele veertiger Adam die op jonge leeftijd zijn ouder
 s verloor. Het raakt de universele thema’s rouw\, eenzaamheid\, zelfaccep
 tatie en ouderschap\, waardoor het bij iedere kijker een gevoelige snaar za
 l raken.   Na afloop van de film praten we na met een panelgesprek onder
  leiding van raadslid Gisèle Mambre en met panelleden.   Alle bezoekers
  kr
LOCATION:Eindhoven\, Natlab cinema\, Kastanjelaan 500\, 5616 LZ Eindhoven
URL:https://voltnederland.org/brabant/agenda/eindhoven-pride-film-avond-pri
 de-movie-night
END:VEVENT
END:VCALENDAR
