BEGIN:VCALENDAR
VERSION:2.0
PRODID:-//Volt Europa//Events//EN
CALSCALE:GREGORIAN
METHOD:PUBLISH
BEGIN:VEVENT
UID:eindhoven-oorlog-in-oekraine-en-daarna-war-in-ukrain-and-after-the-war-
 1739385000@voltnederland.org
DTSTAMP:20260423T144550Z
DTSTART;TZID=Europe/Amsterdam:20250212T193000
DTEND;TZID=Europe/Amsterdam:20250212T213000
SUMMARY:Eindhoven - Oorlog in Oekraine en daarna? - War in Ukrain and after
  the war?
DESCRIPTION:•⁠ ⁠English below - Унизу українська -  LE
 T OP:  In februari zijn we bij United Cowboys! Iedere tweede woensdag van d
 e maand organiseert Volt Zuidoost-Brabant een meet-up voor leden en geïnte
 resseerden. Inloop vanaf 19.30 uur. Start programma om 20 uur. Formele eind
 e en start borrel: rond 21.30 uur. Het thema in februari: De oorlog in Oekr
 aïne en wat daarna. Een aantal Oekraïners en vertegenwoordigers van Volt 
 Ukraina komt vertellen over de huidige stand van zaken\, bijna 3 jaar na de
  Russische i
LOCATION:Eindhoven\, United Cowboys - Kleine Berg 62\, 5611JW  Eindhoven
URL:https://voltnederland.org/agenda/eindhoven-oorlog-in-oekraine-en-daarna
 -war-in-ukrain-and-after-the-war
END:VEVENT
END:VCALENDAR
