BEGIN:VCALENDAR
VERSION:2.0
PRODID:-//Volt Europa//Events//EN
CALSCALE:GREGORIAN
METHOD:PUBLISH
BEGIN:VEVENT
UID:eindhoven-meet-up-gemeenteraad-special-city-council-special-1741804200@
 voltnederland.org
DTSTAMP:20260423T114441Z
DTSTART;TZID=Europe/Amsterdam:20250312T193000
DTEND;TZID=Europe/Amsterdam:20250312T213000
SUMMARY:Eindhoven - Meet-up Gemeenteraad special - City council special
DESCRIPTION:In maart 2026 zijn er weer gemeenteraadsverkiezingen. Volt Eind
 hoven wil weer meedoen en het liefst nog meer zetels halen. Wat houdt het w
 erk in de gemeenteraad in\, wat is er leuk en wat is er minder leuk? Jacco\
 , Inge en Robin vertellen over hun ervaringen en waarom je wel of niet zou 
 moeten kandideren voor de lijst. Natuurlijk is er tijd voor vragen en staan
  we stil bij het nieuws uit de rest van Europa.  Voor nieuwe Volt leden sta
 rt er een introductie om 19 uur. ----- In March 2026\, there will
LOCATION:Eindhoven\, Theaterzaal boven café 't Rozenknopje\, Hoogstraat 59
 \, 5615PA Eindhoven
URL:https://voltnederland.org/agenda/eindhoven-meet-up-gemeenteraad-special
 -city-council-special
END:VEVENT
END:VCALENDAR
