BEGIN:VCALENDAR
VERSION:2.0
PRODID:-//Volt Europa//Events//EN
CALSCALE:GREGORIAN
METHOD:PUBLISH
BEGIN:VEVENT
UID:eindhoven-meet-up-europa-van-de-regios-1747243800@voltnederland.org
DTSTAMP:20260423T143452Z
DTSTART;TZID=Europe/Amsterdam:20250514T193000
DTEND;TZID=Europe/Amsterdam:20250514T213000
SUMMARY:Eindhoven: meet-up - Europa van de regio's
DESCRIPTION:Iedere tweede woensdag van de maand organiseert Volt Eindhoven 
 een meet-up voor leden en geïnteresseerden. Inloop vanaf 19.30 uur. Start 
 programma om 20 uur. Het thema op woensdagavond 14 mei 2025 is het Europa v
 an de regio’s.  Jules Ortjens\, fractieleider van Volt Maastricht\, geeft
  een interactieve lezing over hoe wij samen ons continent vorm geven. Daarn
 aast zoals altijd een update van onze Volt raadsleden in de gemeenteraad va
 n Eindhoven en Volt nieuws uit de rest van Europa.  De meet-up van 
LOCATION:Eindhoven\, theaterzaal boven café 't Rozenknopje\, Hoogstraat 59
 \, 5615PA  Eindhoven
URL:https://voltnederland.org/agenda/eindhoven-meet-up-europa-van-de-regios
END:VEVENT
END:VCALENDAR
