BEGIN:VCALENDAR
VERSION:2.0
PRODID:-//Volt Europa//Events//EN
CALSCALE:GREGORIAN
METHOD:PUBLISH
BEGIN:VEVENT
UID:eindhoven-ladies-night-diversiteit-en-inclusiviteit-meet-up-juni-2024-1
 718213400@voltnederland.org
DTSTAMP:20260423T174424Z
DTSTART;TZID=Europe/Amsterdam:20240612T193000
DTEND;TZID=Europe/Amsterdam:20240612T213000
SUMMARY:Eindhoven - Ladies night - Diversiteit en inclusiviteit - meet-up j
 uni 2024
DESCRIPTION:Iedere tweede woensdag van de maand organiseert Volt Zuidoost-B
 rabant een meet-up voor leden en geïnteresseerden. Inloop vanaf 19.30 uur.
  Start programma om 20 uur. Woensdagavond 12 juni hebben we Volt ladies nig
 ht. Iedereen is welkom en nodig een vrouw uit\, om met je mee te gaan!  Op 
 het programma: - Adda van Zanden spreekt over diversiteit en inclusiviteit 
 - EP2024 verkiezingsresultaten  - update van de Volt fractie in Eindhoven  
 - nieuws van Volt Europa.  Vrij toegankelijk voor Volt leden en 
LOCATION:Eindhoven - Theaterzaal Cafe 't Rozenknopje - Hoogstraat 59
URL:https://voltnederland.org/brabant/agenda/eindhoven-ladies-night-diversi
 teit-en-inclusiviteit-meet-up-juni-2024
END:VEVENT
END:VCALENDAR
