BEGIN:VCALENDAR
VERSION:2.0
PRODID:-//Volt Europa//Events//EN
CALSCALE:GREGORIAN
METHOD:PUBLISH
BEGIN:VEVENT
UID:eindhoven-introweek-tu-e-1724149800@voltnederland.org
DTSTAMP:20260423T101947Z
DTSTART;TZID=Europe/Amsterdam:20240820T123000
DTEND;TZID=Europe/Amsterdam:20240820T170000
SUMMARY:Eindhoven - Introweek TU/e
DESCRIPTION:Zoals ieder jaar is Volt weer actief op de TU/e Introweek voor 
 nieuwe en bestaande studenten. Ga in gesprek met actieve Volt leden\, onze 
 Volters in de gemeenteraad van Eindhoven of met Laurens Dassen zelf! ---- L
 ike every year\, Volt is active at the TU/e ​​Introweek for new and exi
 sting students. Talk to active Volt members\, our Volters in the Eindhoven 
 city council or with Laurens Dassen himself!
LOCATION:Eindhoven - Het Eeuwsel 53\, 5612 AZ Eindhoven
URL:https://voltnederland.org/agenda/eindhoven-introweek-tu-e
END:VEVENT
END:VCALENDAR
