BEGIN:VCALENDAR
VERSION:2.0
PRODID:-//Volt Europa//Events//EN
CALSCALE:GREGORIAN
METHOD:PUBLISH
BEGIN:VEVENT
UID:eindhoven-intro-meeting-nieuwe-leden-new-members-oktober25-1759941900@v
 oltnederland.org
DTSTAMP:20260423T114548Z
DTSTART;TZID=Europe/Amsterdam:20251008T184500
DTEND;TZID=Europe/Amsterdam:20251008T193000
SUMMARY:Eindhoven: Intro-meeting nieuwe leden - new members - oktober
DESCRIPTION:Speciaal voor nieuwe Volt leden en geïnteresseerden organisere
 n we een Volt introductie meeting.  De volgende onderwerpen komen aan de or
 de:  - Wat is Volt?  - Waarom is Volt opgericht en geschiedenis?  - De ambi
 ties van Volt  - De Volt 5+1 Challenges  - Volt in heel Europa  - Wat kun j
 ij doen bij Volt? 18.45 Inloop 19.00 Start Introductie 19.30 Inloop regulie
 re meet-up Ook overige geïnteresseerden van harte welkom!  De reguliere me
 et-up van Volt Zuidoost-Brabant start direct na deze introductie
LOCATION:Eindhoven - Theaterzaal boven Café 't Rozenknopje\, Hoogstraat 59
 \, 5615PA  Eindhoven
URL:https://voltnederland.org/agenda/eindhoven-intro-meeting-nieuwe-leden-n
 ew-members-oktober25
END:VEVENT
END:VCALENDAR
