BEGIN:VCALENDAR
VERSION:2.0
PRODID:-//Volt Europa//Events//EN
CALSCALE:GREGORIAN
METHOD:PUBLISH
BEGIN:VEVENT
UID:eindhoven-grv26-verkiezingsprogramma-meet-up-1764181800@voltnederland.o
 rg
DTSTAMP:20260423T114136Z
DTSTART;TZID=Europe/Amsterdam:20251126T193000
DTEND;TZID=Europe/Amsterdam:20251126T213000
SUMMARY:Eindhoven - GRV26 verkiezingsprogramma - Meet-up
DESCRIPTION:Op 18 maart 2026 zijn het gemeenteraadsverkiezingen en Volt doe
 t in Eindhoven weer mee!  Afgelopen 4 jaar hadden wij 3 Volters in de gemee
 nteraad en wij willen er graag méér vanaf 2026. De laatste anderhalf jaar
  heeft het beleidsteam van Volt Eindhoven hard gewerkt aan het nieuwe belei
 ds- en verkiezingsprogramma. Tijdens de meet-up van 26 november bespreken w
 e alle high-lights en de mogelijkheid om nog veranderingen door te voeren. 
  Natuurlijk staan we ook stil bij ander nieuws uit Eindhoven en 
LOCATION:Eindhoven\, Stadhuis\, Hal van 100 - Stadhuisplein 1\, 5611 EM Ein
 dhoven
URL:https://voltnederland.org/brabant/agenda/eindhoven-grv26-verkiezingspro
 gramma-meet-up
END:VEVENT
END:VCALENDAR
