BEGIN:VCALENDAR
VERSION:2.0
PRODID:-//Volt Europa//Events//EN
CALSCALE:GREGORIAN
METHOD:PUBLISH
BEGIN:VEVENT
UID:eindhoven-grote-grv26-campagnedag-big-grv26-campaign-day-1773478800@vol
 tnederland.org
DTSTAMP:20260426T014952Z
DTSTART;TZID=Europe/Amsterdam:20260314T100000
DTEND;TZID=Europe/Amsterdam:20260314T160000
SUMMARY:Eindhoven: Grote GRV26 campagnedag - Big GRV26 campaign day
DESCRIPTION:Op woensdag 18 maart 2026 zijn het Gemeenteraadverkiezingen. Vo
 lt Eindhoven heeft een fantastisch verkiezingsprogramma geschreven én gedr
 even kandidaten die dit willen realiseren. Help mee op de grote Volt campag
 nedag om de huidige 3 zetels uit te breiden naar meer! We hebben ook Volter
 s uit België en NRW uitgenodigd om te komen en zo wordt het extra Europees
  en dus extra gezellig. Op zaterdag 14 maart staan we in ieder geval de hel
 e dag met een grote stand in het centrum op het ’18 September’ p
LOCATION:Eindhoven\, 18 Septemberplein\, 5611AL Eindhoven
URL:https://voltnederland.org/agenda/eindhoven-grote-grv26-campagnedag-big-
 grv26-campaign-day
END:VEVENT
END:VCALENDAR
