BEGIN:VCALENDAR
VERSION:2.0
PRODID:-//Volt Europa//Events//EN
CALSCALE:GREGORIAN
METHOD:PUBLISH
BEGIN:VEVENT
UID:eindhoven-europees-fietsen-en-campagne-voeren-1716195600@voltnederland.
 org
DTSTAMP:20260423T114410Z
DTSTART;TZID=Europe/Amsterdam:20240520T110000
DTEND;TZID=Europe/Amsterdam:20240520T173000
SUMMARY:Eindhoven - Europees fietsen en campagne voeren
DESCRIPTION:Op Tweede Pinksterdag 20 mei 2024 gaan we Europees fietsen en f
 lyeren! Vanuit Eindhoven fietsen we via Aalst\, Waalre\, Valkenswaard naar 
 de Achelse Kluis\, net over de grens in Hamont-Achel in België. De plannin
 g is als volgt: 11.00 verzamelen op St. Trudoplein in Eindhoven: flyeren en
  bevestigen Volt vlaggen op fietsen 11.30 Vertrek richting Aalst - Waalre 1
 2.00 Flyeren Centrum Aalst-Waalre 13.00 Vertrek naar Valkenswaard 13.45 Fly
 eren Centrum Valkenswaard 15.00 Vertrek naar Achelse Kluis 15.30 F
LOCATION:Eindhoven - St. Trudoplein - 5616 RC Eindhoven
URL:https://voltnederland.org/agenda/eindhoven-europees-fietsen-en-campagne
 -voeren
END:VEVENT
END:VCALENDAR
