BEGIN:VCALENDAR
VERSION:2.0
PRODID:-//Volt Europa//Events//EN
CALSCALE:GREGORIAN
METHOD:PUBLISH
BEGIN:VEVENT
UID:eindhoven-bakfiets-tour-1760180400@voltnederland.org
DTSTAMP:20260423T102101Z
DTSTART;TZID=Europe/Amsterdam:20251011T130000
DTEND;TZID=Europe/Amsterdam:20251011T160000
SUMMARY:Eindhoven - bakfiets tour
DESCRIPTION:Volt Eindhoven doet iets nieuws! We gaan flyers uitdelen met on
 ze nieuwe paarse Volt bakfiets! Trek je Volt trui of jack aan of iets ander
 s paars \; en fiets met ons mee!
LOCATION:Eindhoven - Stationsplein - NS station centrumzijde
URL:https://voltnederland.org/agenda/eindhoven-bakfiets-tour
END:VEVENT
END:VCALENDAR
