BEGIN:VCALENDAR
VERSION:2.0
PRODID:-//Volt Europa//Events//EN
CALSCALE:GREGORIAN
METHOD:PUBLISH
BEGIN:VEVENT
UID:drielandenpunt-demonstratie-voor-open-grenzen-1752921000@voltnederland.
 org
DTSTAMP:20260423T114409Z
DTSTART;TZID=Europe/Amsterdam:20250719T123000
DTEND;TZID=Europe/Amsterdam:20250719T150000
SUMMARY:Drielandenpunt - Demonstratie voor Open Grenzen
DESCRIPTION:Onze Schengen akkoorden staan onder druk. Op steeds meer plaats
 en worden grenscontroles weer ingevoerd. Dit kost veel tijd en ergernis en 
 levert niets op.  Op zaterdag 19 juli vinden er op meerdere plaatsen in Eur
 opa demonstraties plaats voor open grenzen. Ook bij Nederlandse grenzen vin
 den acties plaats: waar sluit jij aan? Om te demonstreren voor vrijheid van
  bewegen\, om je overal te kunnen vestigen en handel te drijven!  In Aken v
 erzamelen vlak we over de grens bij Vaals. Met zoveel mogelijk 
LOCATION:Aachen (D): Vaalser Str. 549\, 52074 Aachen\, Germany
URL:https://voltnederland.org/agenda/drielandenpunt-demonstratie-voor-open-
 grenzen
END:VEVENT
END:VCALENDAR
