BEGIN:VCALENDAR
VERSION:2.0
PRODID:-//Volt Europa//Events//EN
CALSCALE:GREGORIAN
METHOD:PUBLISH
BEGIN:VEVENT
UID:debatmiddag-brabant-1764421200@voltnederland.org
DTSTAMP:20260423T173812Z
DTSTART;TZID=Europe/Amsterdam:20251129T140000
DTEND;TZID=Europe/Amsterdam:20251129T170000
SUMMARY:Debatmiddag Brabant
DESCRIPTION:Leuk nieuws! De Volt Academy heeft Brabant uitgekozen om samen 
 een bijzonder event te organiseren: een debatmiddag onder leiding van De De
 bat Unie. Deze organisatie is gespecialiseerd in debatopleidingen en -event
 s\, dus reken op een inspirerende en leerzame middag! Er komen een heleboel
  kandidaten om alvast te oefenen\, maar er is ook plek voor een aantal lede
 n! Wil je er bij zijn? Meld je dan aan. Let op\, wacht niet te lang want vo
 l=vol Aanmelden kan via de knop hierboven of door een mail te stu
LOCATION:Stadhuis Den Bosch
URL:https://voltnederland.org/brabant/agenda/debatmiddag-brabant
END:VEVENT
END:VCALENDAR
