BEGIN:VCALENDAR
VERSION:2.0
PRODID:-//Volt Europa//Events//EN
CALSCALE:GREGORIAN
METHOD:PUBLISH
BEGIN:VEVENT
UID:de-volt-poffertjeskraam-1761379200@voltnederland.org
DTSTAMP:20260423T102051Z
DTSTART;TZID=Europe/Amsterdam:20251025T100000
DTEND;TZID=Europe/Amsterdam:20251025T163000
SUMMARY:De Volt Poffertjeskraam
DESCRIPTION:De traditionele Volt Poffertjeskraam Flyeren\, gratis koffie\, 
 gratis poffertjes en een goed gesprek!
LOCATION:Den Bosch\, Kerkplein
URL:https://voltnederland.org/agenda/de-volt-poffertjeskraam
END:VEVENT
END:VCALENDAR
