BEGIN:VCALENDAR
VERSION:2.0
PRODID:-//Volt Europa//Events//EN
CALSCALE:GREGORIAN
METHOD:PUBLISH
BEGIN:VEVENT
UID:congress-volt-brabant-2024-1711195200@voltnederland.org
DTSTAMP:20260423T102052Z
DTSTART;TZID=Europe/Amsterdam:20240323T130000
DTEND;TZID=Europe/Amsterdam:20240323T170000
SUMMARY:Tilburg - Congres Volt Brabant
DESCRIPTION:Op zaterdag 23 maat houden we ter oprichting van de afdeling Vo
 lt Brabant een congres. Tijdens dit congres worden de kandidaten voor het b
 estuur gepresenteerd\, wordt er gestemd over het afdelingsreglement en komt
  de begroting voor 2024 aan bod. Alle informatie over het congres vind op  
 deze pagina .
LOCATION:Boerke Mutsaers\, Vijverlaan 2\, 5042 PZ Tilburg
URL:https://voltnederland.org/brabant/agenda/congress-volt-brabant-2024
END:VEVENT
END:VCALENDAR
