BEGIN:VCALENDAR
VERSION:2.0
PRODID:-//Volt Europa//Events//EN
CALSCALE:GREGORIAN
METHOD:PUBLISH
BEGIN:VEVENT
UID:congres-volt-brabant-6-juni-1780745400@voltnederland.org
DTSTAMP:20260425T221409Z
DTSTART;TZID=Europe/Amsterdam:20260606T133000
DTEND;TZID=Europe/Amsterdam:20260606T170000
SUMMARY:Congres - Volt Brabant
DESCRIPTION:Tijdens dit congres stemmen we over de lijsttrekker voor de pro
 vinciale statenverkiezingen en voor nieuwe bestuursleden. Voorlopige agenda
   Agenda  Opening Vaststelling agenda en notulen congres Voorstellen kandid
 aten lijsttrekker Provinciale Staten Voorstellen bestuursleden Inhoudelijk 
 programma Stemmingen lijsttrekker\, bestuursleden\, eventuele moties
LOCATION:Wijkgebouw 't Slot\, Kastelenplein 167 in Eindhoven
URL:https://voltnederland.org/brabant/agenda/congres-volt-brabant-6-juni
END:VEVENT
END:VCALENDAR
