BEGIN:VCALENDAR
VERSION:2.0
PRODID:-//Volt Europa//Events//EN
CALSCALE:GREGORIAN
METHOD:PUBLISH
BEGIN:VEVENT
UID:breda-wij-draaien-warm-1739214000@voltnederland.org
DTSTAMP:20260423T144305Z
DTSTART;TZID=Europe/Amsterdam:20250210T200000
DTEND;TZID=Europe/Amsterdam:20250210T220000
SUMMARY:Breda - Wij draaien warm
DESCRIPTION:We maken er de 10e weer een gezellige avond van. We hebben een 
 leuk intermezzo om elkaar wat beter te leren kennen. En een borrel na afloo
 p. Dus alleen daarom wil je al van de partij zijn\, toch?  Maar goed\, we s
 taan ook voor een serieuze opdracht als Volt om in het voorjaar 2026 in Bre
 da met de gemeenteraadsverkiezingen (GRV) mee te doen. Het lijkt nog ver we
 g die gemeenteraadsverkiezingen. Maar er moet nog veel gebeuren willen we i
 n Breda hierop goed voorbereid zijn. Niet alleen moeten er genoe
LOCATION:Parkzicht\, Paul Windhausenweg 1 in Breda
URL:https://voltnederland.org/brabant/agenda/breda-wij-draaien-warm
END:VEVENT
END:VCALENDAR
