BEGIN:VCALENDAR
VERSION:2.0
PRODID:-//Volt Europa//Events//EN
CALSCALE:GREGORIAN
METHOD:PUBLISH
BEGIN:VEVENT
UID:breda-meet-up-mei-2024-1717003800@voltnederland.org
DTSTAMP:20260423T113924Z
DTSTART;TZID=Europe/Amsterdam:20240529T193000
DTEND;TZID=Europe/Amsterdam:20240529T213000
SUMMARY:Breda - meet-up mei 2024
DESCRIPTION:Iedere laatste woensdag van de maand kunnen Volt leden elkaar t
 reffen in Breda. Deze maand staat natuurlijk in het teken van de Europese v
 erkiezingen.
LOCATION:Breda - Cafe Publieke werken - Sint Annastraat 12\, 4811 XK Breda
URL:https://voltnederland.org/brabant/agenda/breda-meet-up-mei-2024
END:VEVENT
END:VCALENDAR
