BEGIN:VCALENDAR
VERSION:2.0
PRODID:-//Volt Europa//Events//EN
CALSCALE:GREGORIAN
METHOD:PUBLISH
BEGIN:VEVENT
UID:breda-boekpresentatie-wij-zijn-europa-1716040800@voltnederland.org
DTSTAMP:20260423T114339Z
DTSTART;TZID=Europe/Amsterdam:20240518T160000
DTEND;TZID=Europe/Amsterdam:20240518T180000
SUMMARY:Breda - Boekpresentatie "Wij zijn Europa"
DESCRIPTION:Op zaterdag 18 mei presenteert de lijsttrekker voor de Europese
  Parlementsverkiezingen namens Volt Nederland\, Reinier van Lanschot\, zijn
  boek "Wij zijn Europa" in Breda. De boekpresentatie is in boekhandel Van K
 emenade & Hollaers.  De presentatie van Reinier start om 16:00 uur. Na de l
 ezing is er alle ruimte om een boek te laten signeren en na te praten. Om 1
 8:00 uur eindigt het programma. De toegang is gratis. Let op: je ontvangt g
 een automatische bevestiging van je aanmelding. Als je het formu
LOCATION:Van Kemenade & Hollaers\, Ginnekenweg 52-54 Breda
URL:https://voltnederland.org/agenda/breda-boekpresentatie-wij-zijn-europa
END:VEVENT
END:VCALENDAR
