BEGIN:VCALENDAR
VERSION:2.0
PRODID:-//Volt Europa//Events//EN
CALSCALE:GREGORIAN
METHOD:PUBLISH
BEGIN:VEVENT
UID:best-meet-up-europa-dichtbij-1759858200@voltnederland.org
DTSTAMP:20260423T114048Z
DTSTART;TZID=Europe/Amsterdam:20251007T193000
DTEND;TZID=Europe/Amsterdam:20251007T211500
SUMMARY:Best - Meet-up - Europa dichtbij
DESCRIPTION:De Volt afdeling in Best houdt haar kwartaalbijeenkomst en heef
 t als gastspreker Jacques Giesbertz.  Jacques is vertegenwoordiger van Euro
 pe Direct Eindhoven en de Europe Directs in EU en zal daar over spreken en 
 over de plannen voor de toekomst. Andere onderwerpen die ter sprake komen z
 ijn: het European Citizens Initiative en het komende event United through P
 oetry. Van harte welkom om aan te sluiten! Inloop: vanaf 19.30 uur Start pr
 ogramma: 19.45 uur Einde: rond 21.15 uur ----- The Volt group 
LOCATION:Best - bibliotheek\, Raadhuisplein 32\, 5683 EA Best
URL:https://voltnederland.org/agenda/best-meet-up-europa-dichtbij
END:VEVENT
END:VCALENDAR
