BEGIN:VCALENDAR
VERSION:2.0
PRODID:-//Volt Europa//Events//EN
CALSCALE:GREGORIAN
METHOD:PUBLISH
BEGIN:VEVENT
UID:best-meet-up-en-bijpraat-in-bibliotheek-1750181400@voltnederland.org
DTSTAMP:20260423T114415Z
DTSTART;TZID=Europe/Amsterdam:20250617T193000
DTEND;TZID=Europe/Amsterdam:20250617T210000
SUMMARY:Best: Meet-up en bijpraat in bibliotheek
DESCRIPTION:Op dinsdag 17 juni komt het team van Volt in Best weer bijeen i
 n de bibliotheek. Om samen te praten over lokale\, nationale en Europese ui
 tdagingen. Welkom voor alle Volt leden\; en natuurlijk ook voor introducees
 ! ------ On Tuesday June 17th\, the Volt team in Best will meet again in th
 e library. To talk about local\, national and European challenges. Welcome 
 to all Volt members\; and of course also to introducees!
LOCATION:Best - Bibliotheek\, Raadhuisplein 32\, 5683 EA Best
URL:https://voltnederland.org/agenda/best-meet-up-en-bijpraat-in-bibliothee
 k
END:VEVENT
END:VCALENDAR
